BEGIN:VCALENDAR
BEGIN:VEVENT
DESCRIPTION:\nMore Information: https://prod1.agileticketing.net/websales/pages/TicketSearchCriteria.aspx?evtInfo=542777~e2e0a350-c626-4e33-bc63-27e983f4aecf&\n\nJoin the Drexel Theatre and Gramercy Books for a screening of Alexander Payne's hit 1999 satirical comedy Election! The screening will celebrate author Tom Perrotta, whose book the film adapted, as he launches his new novel Ghost Town. Ghost Town will be available for purchase courtesy of Gramercy Books, as well as registration for the main event on May 7th, where Perrotta will be conversing with WOSU's Kassie Rose about his new and exciting novel.
DTSTART:20260428T230000Z
DTEND:20260429T004300Z
LOCATION:The Drexel Theatre 1, 2254 East Main Street, Columbus, OH, 43209
SUMMARY:Election (1999) with Gramercy Books
UID:542777
DTSTAMP:20260422T090902Z
END:VEVENT
END:VCALENDAR
