BEGIN:VCALENDAR
BEGIN:VEVENT
DESCRIPTION:\nMore Information: https://prod1.agileticketing.net/websales/pages/TicketSearchCriteria.aspx?evtInfo=549868~e2e0a350-c626-4e33-bc63-27e983f4aecf&\n\nA demon torments the family and friends of Anita in order to take revenge on her father, who may have been involved in his death.
DTSTART:20260426T013000Z
DTEND:20260426T034200Z
LOCATION:The Drexel Theatre 1, 2254 East Main Street, Columbus, OH, 43209
SUMMARY:Mahakaal (1994)
UID:549868
DTSTAMP:20260419T221325Z
END:VEVENT
END:VCALENDAR
