BEGIN:VCALENDAR
BEGIN:VEVENT
DESCRIPTION:\nMore Information: https://prod1.agileticketing.net/websales/pages/TicketSearchCriteria.aspx?evtInfo=549879~e2e0a350-c626-4e33-bc63-27e983f4aecf&\n\nA broken-down, middle-aged country singer gets a new wife, reaches out to his long-lost daughter, and tries to put his troubled life back together.
DTSTART:20260427T230000Z
DTEND:20260428T003200Z
LOCATION:The Drexel Theatre 1, 2254 East Main Street, Columbus, OH, 43209
SUMMARY:Tender Mercies (1983)
UID:549879
DTSTAMP:20260421T072923Z
END:VEVENT
END:VCALENDAR
