BEGIN:VCALENDAR
BEGIN:VEVENT
DESCRIPTION:\nMore Information: https://prod1.agileticketing.net/websales/pages/TicketSearchCriteria.aspx?evtInfo=554943~e2e0a350-c626-4e33-bc63-27e983f4aecf&\n\nThe children of a once famous artist hire a forger to complete some unfinished, long ago abandoned canvases so they'll have an inheritance when he dies.
DTSTART:20260423T230000Z
DTEND:20260424T004000Z
LOCATION:The Drexel Theatre 1, 2254 East Main Street, Columbus, OH, 43209
SUMMARY:The Christophers
UID:554943
DTSTAMP:20260421T073914Z
END:VEVENT
END:VCALENDAR
