BEGIN:VCALENDAR
BEGIN:VEVENT
DESCRIPTION:\nMore Information: https://prod1.agileticketing.net/websales/pages/TicketSearchCriteria.aspx?evtInfo=554949~e2e0a350-c626-4e33-bc63-27e983f4aecf&\n\nThe children of a once famous artist hire a forger to complete some unfinished, long ago abandoned canvases so they'll have an inheritance when he dies.
DTSTART:20260427T231500Z
DTEND:20260428T005500Z
LOCATION:The Drexel Theatre 2, 2254 East Main Street, Columbus, OH, 43209
SUMMARY:The Christophers
UID:554949
DTSTAMP:20260421T074039Z
END:VEVENT
END:VCALENDAR
