BEGIN:VCALENDAR
BEGIN:VEVENT
DESCRIPTION:\nMore Information: https://prod1.agileticketing.net/websales/pages/TicketSearchCriteria.aspx?evtInfo=554952~e2e0a350-c626-4e33-bc63-27e983f4aecf&\n\nScience teacher Ryland Grace wakes up alone on a spaceship light-years from Earth. As his memory returns, he uncovers a mission to stop a mysterious substance killing the sun, and save Earth. An unexpected friendship may be the key.
DTSTART:20260425T231500Z
DTEND:20260426T015100Z
LOCATION:The Drexel Theatre 2, 2254 East Main Street, Columbus, OH, 43209
SUMMARY:Project Hail Mary
UID:554952
DTSTAMP:20260421T073914Z
END:VEVENT
END:VCALENDAR
