BEGIN:VCALENDAR
BEGIN:VEVENT
DESCRIPTION:\nMore Information: https://prod1.agileticketing.net/websales/pages/TicketSearchCriteria.aspx?evtInfo=554966~e2e0a350-c626-4e33-bc63-27e983f4aecf&\n\nMario ventures into space, exploring cosmic worlds and tackling galactic challenges far from the familiar Mushroom Kingdom.
DTSTART:20260423T224500Z
DTEND:20260424T002300Z
LOCATION:The Drexel Theatre 3, 2254 East Main Street, Columbus, OH, 43209
SUMMARY:The Super Mario Galaxy Movie
UID:554966
DTSTAMP:20260421T074237Z
END:VEVENT
END:VCALENDAR
