BEGIN:VCALENDAR
BEGIN:VEVENT
DESCRIPTION:\nMore Information: https://prod1.agileticketing.net/websales/pages/TicketSearchCriteria.aspx?evtInfo=554967~e2e0a350-c626-4e33-bc63-27e983f4aecf&\n\nMario ventures into space, exploring cosmic worlds and tackling galactic challenges far from the familiar Mushroom Kingdom.
DTSTART:20260424T224500Z
DTEND:20260425T002300Z
LOCATION:The Drexel Theatre 3, 2254 East Main Street, Columbus, OH, 43209
SUMMARY:The Super Mario Galaxy Movie
UID:554967
DTSTAMP:20260421T074024Z
END:VEVENT
END:VCALENDAR
